BEGIN:VCALENDAR
PRODID:-//Microsoft Corporation//Outlook 15.0 MIMEDIR//EN
VERSION:2.0
METHOD:PUBLISH
X-MS-OLK-FORCEINSPECTOROPEN:TRUE
BEGIN:VTIMEZONE
TZID:Romance Standard Time
BEGIN:STANDARD
DTSTART:16011028T030000
RRULE:FREQ=YEARLY;BYDAY=-1SU;BYMONTH=10
TZOFFSETFROM:+0200
TZOFFSETTO:+0100
END:STANDARD
BEGIN:DAYLIGHT
DTSTART:16010325T020000
RRULE:FREQ=YEARLY;BYDAY=-1SU;BYMONTH=3
TZOFFSETFROM:+0100
TZOFFSETTO:+0200
END:DAYLIGHT
END:VTIMEZONE
BEGIN:VEVENT
CLASS:PUBLIC
CREATED:20210217T095001Z
DESCRIPTION:Upon prior registration here <https://www.enisa.europa.eu/event
	s/ENISA-ERA_Conference/registration> .\nMore information here <https://www
	.enisa.europa.eu/events/ENISA-ERA_Conference/ENISA-ERA_Conference> .\nLook
	ing forward to meeting you\,\nERA-ENISA Teams\n\n
DTEND;TZID="Romance Standard Time":20210317T130000
DTSTAMP:20210217T095001Z
DTSTART;TZID="Romance Standard Time":20210317T100000
LAST-MODIFIED:20210217T095001Z
PRIORITY:5
SEQUENCE:0
SUMMARY;LANGUAGE=en-us:ERA-ENISA Conference on Cybersecurity in Railways
TRANSP:OPAQUE
UID:040000008200E00074C5B7101A82E00800000000402C3DA41A05D701000000000000000
	0100000008EB4615F0599B04DA2C4A8AC9AEF66A5
X-ALT-DESC;FMTTYPE=text/html:<!DOCTYPE HTML PUBLIC "-//W3C//DTD HTML 3.2//E
	N">\n<HTML>\n<HEAD>\n<META NAME="Generator" CONTENT="MS Exchange Server ve
	rsion rmj.rmm.rup.rpr">\n<TITLE></TITLE>\n</HEAD>\n<BODY>\n<!-- Converted 
	from text/rtf format -->\n\n<P DIR=LTR><SPAN LANG="en-us"></SPAN><SPAN LAN
	G="en-us"><FONT FACE="Calibri">Upon prior registration</FONT></SPAN><SPAN 
	LANG="en-us"> </SPAN><A HREF="https://www.enisa.europa.eu/events/ENISA-ERA
	_Conference/registration"><SPAN LANG="en-us"></SPAN><SPAN LANG="en-us"><U>
	<FONT COLOR="#0563C1" FACE="Calibri">here</FONT></U></SPAN><SPAN LANG="en-
	us"></SPAN></A><SPAN LANG="en-us"></SPAN><SPAN LANG="en-us"><FONT FACE="Ca
	libri">.</FONT></SPAN></P>\n\n<P DIR=LTR><SPAN LANG="en-us"><FONT FACE="Ca
	libri">More information</FONT></SPAN><SPAN LANG="en-us"> </SPAN><A HREF="h
	ttps://www.enisa.europa.eu/events/ENISA-ERA_Conference/ENISA-ERA_Conferenc
	e"><SPAN LANG="en-us"></SPAN><SPAN LANG="en-us"><U><FONT COLOR="#0563C1" F
	ACE="Calibri">here</FONT></U></SPAN><SPAN LANG="en-us"></SPAN></A><SPAN LA
	NG="en-us"></SPAN><SPAN LANG="en-us"><FONT FACE="Calibri">.</FONT></SPAN><
	/P>\n\n<P DIR=LTR><SPAN LANG="en-us"><FONT FACE="Calibri">Looking forward 
	to meeting you\,</FONT></SPAN></P>\n\n<P DIR=LTR><SPAN LANG="en-us"><FONT 
	FACE="Calibri">ERA-ENISA Teams</FONT></SPAN></P>\n\n<P DIR=LTR><SPAN LANG=
	"en-us"></SPAN></P>\n\n</BODY>\n</HTML>
X-MICROSOFT-CDO-BUSYSTATUS:BUSY
X-MICROSOFT-CDO-IMPORTANCE:1
X-MICROSOFT-DISALLOW-COUNTER:FALSE
X-MS-OLK-AUTOFILLLOCATION:TRUE
X-MS-OLK-CONFTYPE:0
BEGIN:VALARM
TRIGGER:-PT15M
ACTION:DISPLAY
DESCRIPTION:Reminder
END:VALARM
END:VEVENT
END:VCALENDAR
